BEGIN:VCALENDAR
VERSION:2.0
PRODID:-//RO-AR - ECPv6.0.11//NONSGML v1.0//EN
CALSCALE:GREGORIAN
METHOD:PUBLISH
X-WR-CALNAME:RO-AR
X-ORIGINAL-URL:https://www.ro-ar.com
X-WR-CALDESC:Events for RO-AR
REFRESH-INTERVAL;VALUE=DURATION:PT1H
X-Robots-Tag:noindex
X-PUBLISHED-TTL:PT1H
BEGIN:VTIMEZONE
TZID:Europe/London
BEGIN:DAYLIGHT
TZOFFSETFROM:+0000
TZOFFSETTO:+0100
TZNAME:BST
DTSTART:20230326T010000
END:DAYLIGHT
BEGIN:STANDARD
TZOFFSETFROM:+0100
TZOFFSETTO:+0000
TZNAME:GMT
DTSTART:20231029T010000
END:STANDARD
END:VTIMEZONE
BEGIN:VEVENT
DTSTART;TZID=Europe/London:20230207T110000
DTEND;TZID=Europe/London:20230207T130000
DTSTAMP:20260424T021827
CREATED:20230403T093131Z
LAST-MODIFIED:20230913T112947Z
UID:6372-1675767600-1675774800@www.ro-ar.com
SUMMARY:Event: Handling increased arrears – ideas and support for Credit Unions and Community banks
DESCRIPTION:We are pleased to announce our latest event for Credit Unions and Community Banks. With the cost of living increasing\, post the holidays at year-end\, many people can struggle. \nIn this event we will discuss some of the things that can be done for customers/credit union members\, how to provide support\, hearing about what others are doing across the industry. \nWe will also be updating our benchmarking survey\, summarising the current situation and what is currently being seen. \n–> if you have not completed the survey it can be accessed here. [we will send you a link to the prior survey too]
URL:https://www.ro-ar.com/event/event-handling-increased-arrears-ideas-and-support-for-credit-unions-and-community-banks/
LOCATION:Online
ORGANIZER;CN="ROStrategy":MAILTO:contact@rostrategy.com
END:VEVENT
END:VCALENDAR