BEGIN:VCALENDAR
VERSION:2.0
PRODID:-//RO-AR - ECPv6.0.11//NONSGML v1.0//EN
CALSCALE:GREGORIAN
METHOD:PUBLISH
X-WR-CALNAME:RO-AR
X-ORIGINAL-URL:https://www.ro-ar.com
X-WR-CALDESC:Events for RO-AR
REFRESH-INTERVAL;VALUE=DURATION:PT1H
X-Robots-Tag:noindex
X-PUBLISHED-TTL:PT1H
BEGIN:VTIMEZONE
TZID:Europe/London
BEGIN:DAYLIGHT
TZOFFSETFROM:+0000
TZOFFSETTO:+0100
TZNAME:BST
DTSTART:20230326T010000
END:DAYLIGHT
BEGIN:STANDARD
TZOFFSETFROM:+0100
TZOFFSETTO:+0000
TZNAME:GMT
DTSTART:20231029T010000
END:STANDARD
END:VTIMEZONE
BEGIN:VEVENT
DTSTART;TZID=Europe/London:20230414T103000
DTEND;TZID=Europe/London:20230414T123000
DTSTAMP:20260423T222919
CREATED:20230403T082809Z
LAST-MODIFIED:20230913T112947Z
UID:6338-1681468200-1681475400@www.ro-ar.com
SUMMARY:Hidden Harm: How Debt Advisers can identify and address Illegal Lending
DESCRIPTION:You are invited to Hidden Harm: How Debt Advisers can identify and address Illegal Lending Virtual Event on Friday 14 April\, 2023 commencing at 10.30am – 12.15pm. Thanks to Absolutely Admin for their support in hosting this event on behalf of Illegal Money Lending Team and Sponsors. \nPurpose of the Event: \nBuilding awareness of the IMLT (Illegal Money Lending Team)training platform and gaining commitment taking account of the FCA “Dear CEO” sector letter. \nAgenda & Joining Instructions: \n\n10:20 – 10:30 Arrival & Housekeeping by Heidi Oliver\, Absolutely Admin Solutions\n10:30 – 10:40 Welcome by Bob Winnington\, CEO – MALG on Cross-Sector Initiative\n10:40 – 10:50 MaPS Introduction & How this fits into Debt Advice Landscape – Sarah McNeice\, Service Performance and Quality Manager – MaPS\n10:50 – 11:00 Consumer Duty Planning following “Dear CEO” Letter & Survey Results – Kevin Still\, Director – DEMSA\n11:00 – 11:25 Background to the Debt Adviser Training\, Research Findings\, Role of Data Sharing & What is in the Pipeline – Cath Wohlers\, Liaise Manager & Trish Cassidy\, Credit Union Liaise Officer – IMLT (Illegal Money Lending Team)\n11:25 – 11:40 PayPlan Experience\, including other relevant Vulnerability Initiatives & ISO 22458 – Emma Gibbons\, Vulnerability Lead – PayPlan \n11:40 – 11:50 BSI Kitemark & ISO 22458 – How this Type of Initiative would fit into Framework going forward – Julie Walker\, Global Scheme Manager\, Consumer Promise – BSI\n11:50 – 12:00 Q&A\n12:00 – 12:15 Wrap-up & Call to Action – Cath Wohlers\, Liaise Manager & Trish Cassidy\, Credit Union Liaise Officer – IMLT (Illegal Money Lending Team)\n\nFull joining instructions with zoom link will be sent to all registered attendees the day before the event to avoid getting lost in the inbox. \nIn order to make a prompt start at 10:30\, we will be opening the room slightly earlier to allow time to admit all participants\, therefore please aim to arrive anytime after 10:20am. We look forward to welcoming you on screen on 14 April.
URL:https://www.ro-ar.com/event/hidden-harm-how-debt-advisers-can-identify-and-address-illegal-lending/
END:VEVENT
END:VCALENDAR