BEGIN:VCALENDAR
VERSION:2.0
PRODID:-//RO-AR - ECPv6.0.11//NONSGML v1.0//EN
CALSCALE:GREGORIAN
METHOD:PUBLISH
X-ORIGINAL-URL:https://www.ro-ar.com
X-WR-CALDESC:Events for RO-AR
REFRESH-INTERVAL;VALUE=DURATION:PT1H
X-Robots-Tag:noindex
X-PUBLISHED-TTL:PT1H
BEGIN:VTIMEZONE
TZID:Europe/London
BEGIN:DAYLIGHT
TZOFFSETFROM:+0000
TZOFFSETTO:+0100
TZNAME:BST
DTSTART:20230326T010000
END:DAYLIGHT
BEGIN:STANDARD
TZOFFSETFROM:+0100
TZOFFSETTO:+0000
TZNAME:GMT
DTSTART:20231029T010000
END:STANDARD
END:VTIMEZONE
BEGIN:VEVENT
DTSTART;TZID=Europe/London:20230706T090000
DTEND;TZID=Europe/London:20230706T140000
DTSTAMP:20260423T170520
CREATED:20230403T094641Z
LAST-MODIFIED:20230913T112947Z
UID:6384-1688634000-1688652000@www.ro-ar.com
SUMMARY:Credit Connect: Online Collections Technology Think Tank 4.2
DESCRIPTION:Return of the seventh Online Collections Technology Think Tank. \nThe Online Collections Technology Think Tank will feature a number of discussions to understand the best possible collection strategies in 2023. \nThe Think Tank’s aim is to create an engaging environment with the aim of enabling all participants to learn about change within collections and the role technology and innovation has to play in an ever-changing environment. The last event was attended by just over 240 collections professionals across four streams \nThe next edition of the event will explore conversations around the collections strategies as the UK copes with changes in economic circumstances. \nLenders\, creditors and collections specialists will discuss\, debate and dissect regulatory and thematic business challenges as a result of the pandemic which has economically impacted household finances but collections processes and strategies. \nThe event will focus on panel discussions across a number of thematic collections issues with the aim of problem-solving and examining how companies can utilise people and technological innovations effectively as we move into a new way of working. \nAttendees: \nQualifying Collections professionals include: \nBanks\, Building Societies\, Credit Card providers\, Utility companies\, Mortgage and Loan companies\, High-Cost short Term Lenders\, Home Credit providers\, Motor Finance providers\, Telecoms & Media providers\, Debt Purchasers\, Debt Collection Agencies\, Debt Advice specialists plus other collections professionals.
URL:https://www.ro-ar.com/event/credit-connect-online-collections-technology-think-tank-4-2/
LOCATION:Online
END:VEVENT
END:VCALENDAR