BEGIN:VCALENDAR
VERSION:2.0
PRODID:-//RO-AR - ECPv6.0.11//NONSGML v1.0//EN
CALSCALE:GREGORIAN
METHOD:PUBLISH
X-ORIGINAL-URL:https://www.ro-ar.com
X-WR-CALDESC:Events for RO-AR
REFRESH-INTERVAL;VALUE=DURATION:PT1H
X-Robots-Tag:noindex
X-PUBLISHED-TTL:PT1H
BEGIN:VTIMEZONE
TZID:Europe/London
BEGIN:DAYLIGHT
TZOFFSETFROM:+0000
TZOFFSETTO:+0100
TZNAME:BST
DTSTART:20230326T010000
END:DAYLIGHT
BEGIN:STANDARD
TZOFFSETFROM:+0100
TZOFFSETTO:+0000
TZNAME:GMT
DTSTART:20231029T010000
END:STANDARD
END:VTIMEZONE
BEGIN:VEVENT
DTSTART;TZID=Europe/London:20231114T070000
DTEND;TZID=Europe/London:20231115T170000
DTSTAMP:20260423T104242
CREATED:20230913T112653Z
LAST-MODIFIED:20260109T133929Z
UID:8364-1699945200-1700067600@www.ro-ar.com
SUMMARY:2023 Receivables Management Conference - Canada
DESCRIPTION:Massive Disruption\nA Generational Shift – AI\, Banking\, Housing\, the Workforce and How It Will Impact Business\n\nThe past three years have brought about significant changes in all aspects of society\, government policy and the economy in Canada and abroad. These changes in banking stability\, inflation\, housing uncertainty and workforce operations\, combined with the rise of new technologies like Artificial Intelligence at a mass scale have precipitated a massive shift in economic policy\, business operations\, institutional thinking and risk mitigation. \nOne thing is certain\, change is here and it’s only going to accelerate. We know there is no putting the genie back in the bottle and this year’s RMA conference aims to consider these large themes and how they will impact business\, consumers and collections. We are going to consider just how much pain or opportunity exists during this global tidal technology and economic shift. \nThe 2023 conference will be focused on more panel discussions and the opportunity to participate in smaller groups for networking and exploring specific topics in depth. Expect topics like: \n\nArtificial Intelligence and how it may challenge or enhance industry’s ability to connect with and trace consumers.\nFast moving changes as a result of a climate conscious economy could affect people’s livelihoods\, and therefore their ability to pay debt.\nImpacts of massive swings in interest rates.\nWhat does a new generation of citizens that may not see the value or ability to embrace home or car ownership mean to the financial industry?\nKey economic overviews.\nRegulatory updates.\n…and so much more\n\n 
URL:https://www.ro-ar.com/event/2023-receivables-management-conference-canada/
LOCATION:Niagara Falls
CATEGORIES:Canada
END:VEVENT
BEGIN:VEVENT
DTSTART;VALUE=DATE:20231123
DTEND;VALUE=DATE:20231124
DTSTAMP:20260423T104242
CREATED:20230403T094904Z
LAST-MODIFIED:20230913T112838Z
UID:6387-1700697600-1700783999@www.ro-ar.com
SUMMARY:Credit Connect: 2023 Credit & Collections Technology Think Tank
DESCRIPTION:The third Credit & Collections Technology Think Tank face to face event will take place on Thursday 23rd November 2023 at the Midland Hotel in Manchester. Stay up to date with what is happening in credit and collections by registering to virtual Think Tanks \n\n\nCredit Connect’s Technology Think Tank series have been part of an online series of panel discussions that have examined collections and lending. We are excited to now launch the face to face version of the event which aims to provide a new\, innovative and unique event in the credit and collections industry calendar. The event seeks to create an engaging environment with the aim of enabling all participants to learn about forthcoming technological innovations. Lenders\, creditors and collections specialists will discuss\, debate and dissect regulatory and thematic business challenges whilst discussing the benefits of technological innovation. \nThe Think Tanks focus on how creditor operations and collections teams can improve business strategy using people and technology. The events aim to arm attending companies with strategies that can be implemented into their business and provide best customer outcomes.
URL:https://www.ro-ar.com/event/credit-connect-2023-credit-collections-technology-think-tank/
LOCATION:Midland Hotel\, Manchester\, United Kingdom
END:VEVENT
BEGIN:VEVENT
DTSTART;TZID=Europe/London:20231123T073000
DTEND;TZID=Europe/London:20231123T230000
DTSTAMP:20260423T104242
CREATED:20230403T095045Z
LAST-MODIFIED:20230913T112850Z
UID:6391-1700724600-1700780400@www.ro-ar.com
SUMMARY:Credit Connect: 2023 Credit & Collections Technology Awards Ceremony
DESCRIPTION:The Credit & Collections Technology Awards recognise\, excellence and innovation in the UK credit and collections industry. This year eligible organisations will again compete for one of these prestigious Awards which are judged by an independent panel of industry experts. \nThe Awards examine excellence solutions in lending\, credit and collections innovation. The range of categories reflects the widening compliance and best-practice standards in the sector that technological innovation needs to support. The Awards process offers entrants the opportunity to showcase their achievements. Ultimately success at the Awards can be leveraged to promote industry excellence.
URL:https://www.ro-ar.com/event/credit-connect-2023-credit-collections-technology-awards-ceremony/
LOCATION:Midland Hotel\, Manchester\, United Kingdom
END:VEVENT
END:VCALENDAR